BEGIN:VCALENDAR
PRODID:-//Microsoft Corporation//Outlook MIMEDIR//EN
VERSION:2.0
METHOD:PUBLISH
BEGIN:VEVENT
DTSTART:20260428T133000
DTEND:20260428T143000
DESCRIPTION:NUTRITION COUNCIL
LOCATION:TEAMS MEETING   https://teams.microsoft.com/meet/29839718084399?p=rkaCZxzVAZT1WpnKGN  Meeting ID: 298 397 180 843 99  Passcode: 2Gp7Mi9m
SUMMARY:Commission on Aging
CATEGORIES:MEETING
END:VEVENT
END:VCALENDAR
